BEGIN:VCALENDAR
PRODID:-//TYPO3/NONSGML News system (news)//EN
VERSION:2.0
BEGIN:VEVENT
UID:news-82345@www.die-linke.de
TZID:Europe/Berlin
DTSTAMP:20210518T064717Z
DTSTART;VALUE=DATE-TIME;TZID=Europe/Berlin:20210703T103000
DTEND;VALUE=DATE-TIME;TZID=Europe/Berlin:20210703T163000
SUMMARY:Kandidatentraining – Thüringen
DESCRIPTION:Online-Seminar für Kandidaten zur Landes- und Bundestagswahl Thüringen\n\nAnmeldungen erfolgen über die Landesgeschäftsstelle
END:VEVENT
END:VCALENDAR