BEGIN:VCALENDAR
PRODID:-//TYPO3/NONSGML News system (news)//EN
VERSION:2.0
BEGIN:VEVENT
UID:news-82749@www.die-linke.de
TZID:Europe/Berlin
DTSTAMP:20210701T060215Z
DTSTART;VALUE=DATE:20210703
SUMMARY:Kandidatentraining – Schleswig-Holstein und Hamburg
DESCRIPTION:Online-Seminar für Kandidaten zur Bundestagswahl Schleswig-Holstein und Hamburg.  Anmeldungen erfolgen über die Landesgeschäftsstellen. \n\n
END:VEVENT
END:VCALENDAR