BEGIN:VCALENDAR
PRODID:-//TYPO3/NONSGML News system (news)//EN
VERSION:2.0
BEGIN:VEVENT
UID:news-82150@www.die-linke.de
TZID:Europe/Berlin
DTSTAMP:20210416T074215Z
DTSTART;VALUE=DATE-TIME;TZID=Europe/Berlin:20210417T100000
SUMMARY:Kandidatentraining – Sachsen
DESCRIPTION:Online-Seminar für Kandidatinnen und Kandidaten auf der Landesliste Sachsen\n\nAnmeldungen erfolgen über die Landesgeschäftsstelle
END:VEVENT
END:VCALENDAR