BEGIN:VCALENDAR
PRODID:-//TYPO3/NONSGML News system (news)//EN
VERSION:2.0
BEGIN:VEVENT
UID:news-82154@www.die-linke.de
TZID:Europe/Berlin
DTSTAMP:20210416T074131Z
DTSTART;VALUE=DATE-TIME;TZID=Europe/Berlin:20210509T100000
SUMMARY:Kandidatentraining – Nordrhein-Westfalen
DESCRIPTION:Online-Seminar für Kandidatinnen und Kandidaten auf der Landesliste Nordrhein-Westfalen\n\nAnmeldungen erfolgen über die Landesgeschäftsstelle
END:VEVENT
END:VCALENDAR