BEGIN:VCALENDAR
PRODID:-//TYPO3/NONSGML News system (news)//EN
VERSION:2.0
BEGIN:VEVENT
UID:news-82344@www.die-linke.de
TZID:Europe/Berlin
DTSTAMP:20210518T064532Z
DTSTART;VALUE=DATE-TIME;TZID=Europe/Berlin:20210606T103000
DTEND;VALUE=DATE-TIME;TZID=Europe/Berlin:20210606T163000
SUMMARY:Kandidatentraining – Nordrhein-Westfalen
DESCRIPTION:Online-Seminar für Kandidaten auf der Landesliste Nordrhein-Westfalen\n\nAnmeldungen erfolgen über die Landesgeschäftsstelle
END:VEVENT
END:VCALENDAR