BEGIN:VCALENDAR
PRODID:-//TYPO3/NONSGML News system (news)//EN
VERSION:2.0
BEGIN:VEVENT
UID:news-82151@www.die-linke.de
TZID:Europe/Berlin
DTSTAMP:20210416T074155Z
DTSTART;VALUE=DATE-TIME;TZID=Europe/Berlin:20210423T100000
SUMMARY:Kandidatentraining – Mecklenburg-Vorpommern
DESCRIPTION:Online-Seminar für Kandidatinnen und Kandidaten auf der Landesliste Mecklenburg-Vorpommern\n\nAnmeldungen erfolgen über die Landesgeschäftsstelle
END:VEVENT
END:VCALENDAR