BEGIN:VCALENDAR
PRODID:-//TYPO3/NONSGML News system (news)//EN
VERSION:2.0
BEGIN:VEVENT
UID:news-80119@www.die-linke.de
TZID:Europe/Berlin
DTSTAMP:20210115T113039Z
DTSTART;VALUE=DATE:20201025
SUMMARY:Haustürgespräche-Schulung für Direktkandidaten und Wahlkämpferen in Rheinland-Pfalz (Mainz)
DESCRIPTION:Kein Flyer, kein Plakat, kein Sharepic ist im Wahlkampf so überzeugend wie ein gutes Gespräch...\n\nWählerbindung entsteht indem wir Beziehungen aufbauen und deshalb lohnen sich Haustürgespräche. Haustürgespräche bringen uns in Kontakt mit den Leuten, die wir am Infostand zu selten treffen, die wir mit Plakaten kaum erreichen und die nicht zu unseren Veranstaltungen kommen. Mit je mehr Menschen wir reden, je mehr wir ihre konkreten Probleme kennen, je mehr Nachbar die Partei vor Ort erleben, desto mehr wachsen wir und desto mehr werden wir gewählt. Wie aber geht das? Was ist dafür nötig? Was müssen wir beachten? Und: Klappt das wirklich?\nAnmeldung: robert.blaettermann@die-linke.de\nAnmeldung wie folgt: Name, Telefonnummer, Kreisverband, Position im Kreisverband,\nAnmeldeschluss: 23. Oktober 2020\nDie Schulung findet online als Zoom Seminar statt und richtet sich an LINKE-Mitglieder in Rheinland-Pfalz. Den Teilnehmerlink gibt es nach der Anmeldung.
END:VEVENT
END:VCALENDAR