BEGIN:VCALENDAR
PRODID:-//TYPO3/NONSGML News system (news)//EN
VERSION:2.0
BEGIN:VEVENT
UID:news-81146@www.die-linke.de
TZID:Europe/Berlin
DTSTAMP:20210106T114747Z
DTSTART;VALUE=DATE-TIME;TZID=Europe/Berlin:20210202T110000
SUMMARY:Gute Pressearbeit im Wahlkampf – Einblick mit den Profis
DESCRIPTION:Online-Workshop der Reihe "Super Tuesday"\n\nWenn man im Wahlkampf in der lokalen Presse nicht nur auftauchen, sondern auch glänzen möchte, braucht es Kenntnisse darüber, wie Journalismus und gelungene Pressearbeit funktionieren. In diesem Workshop verraten euch erfahrene Pressesprecher*innen Tipps und Kniffe aus ihrem Handwerk.\nReferent*innen: Antje Dieterich (DIE LINKE BGSt)\nweitere Informationen | zur Anmeldung
END:VEVENT
END:VCALENDAR