BEGIN:VCALENDAR
PRODID:-//TYPO3/NONSGML News system (news)//EN
VERSION:2.0
BEGIN:VEVENT
UID:news-81151@www.die-linke.de
TZID:Europe/Berlin
DTSTAMP:20210115T113144Z
DTSTART;VALUE=DATE-TIME;TZID=Europe/Berlin:20210302T180000
SUMMARY:Gewinnen mit System: Mitglieder und Sympathisant*innen für den Wahlkampf!
DESCRIPTION:Online-Workshop der Reihe "Super Tuesday"\n\nDIE LINKE ist eine Mitmachpartei. Ohne unsere ehrenamtlichen Wahlkämpfer*innen wären wir nur halb so stark. An diesem Super Tuesday zeigen wir euch, wie wir unserer Mitglieder und Sympathisant*innen für den Wahlkampf mobilisieren können, und zwar mit System: Darauf zielt unser Projekt Linksaktiv (www.linksaktiv.de). Hierfür geben wir euch einen Einblick in die dahinterstehende Datenbank vTiger. Die Veranstaltung richtet sich an Mitgliederverantwortliche, Campaigner*innen, Mitglieder von Kreis- und Landesvorständen sowie Aktive in den lokalen Wahlkampfstrukturen.\nReferent*in: Bereich Kampagnen und Parteientwicklung (DIE LINKE BGSt)\nweitere Informationen | zur Anmeldung
END:VEVENT
END:VCALENDAR