BEGIN:VCALENDAR
PRODID:-//TYPO3/NONSGML News system (news)//EN
VERSION:2.0
BEGIN:VEVENT
UID:news-81158@www.die-linke.de
TZID:Europe/Berlin
DTSTAMP:20210115T113523Z
DTSTART;VALUE=DATE-TIME;TZID=Europe/Berlin:20210504T180000
SUMMARY:Framing – mit Deutungsmustern politische Inhalte transportieren
DESCRIPTION:Online-Workshop der Reihe "Super Tuesday"\n\n„Steuerflüchtling“ – „Gender-Gaga“ – „soziale Kälte“ – „Flüchtlingswelle“: Über sprachliche Bilder wollen Parteien Assoziationen wecken, politische Vorstellungen vermitteln und Menschen überzeugen. Auch als LINKE stehen wir vor der Frage, mit welchen sprachlichen Mitteln wir Wählerinnen und Wähler erreichen. Anhand von Deutungsmustern, sogenannten Frames, lassen sich Wertvorstellungen ausdrücken, Debatten auf Themen lenken und Lösungsvorschläge plausibel machen. Wie funktionieren Frames? Was hat es mit dem Framing auf sich? Und wie können wir unsere Konzepte so in Worte kleiden, dass die Inhalte mit Bildern transportiert werden und Menschen sich angesprochen fühlen? Kommt vorbei und probiert euch aus!\nReferent*innen: Inva Halili und Martin Neise (DIE LINKE BGSt)\nweitere Informationen | zur Anmeldung
END:VEVENT
END:VCALENDAR