BEGIN:VCALENDAR
PRODID:-//TYPO3/NONSGML News system (news)//EN
VERSION:2.0
BEGIN:VEVENT
UID:news-81154@www.die-linke.de
TZID:Europe/Berlin
DTSTAMP:20210115T113407Z
DTSTART;VALUE=DATE-TIME;TZID=Europe/Berlin:20210413T200000
SUMMARY:Fotografie im politischen Kontext
DESCRIPTION:Online-Workshop der Reihe "Super Tuesday"\n\nTu Gutes und berichte davon: Durch Bilder und Aktionsberichte in den sozialen Medien erreichen wir viel mehr Menschen als durch die Aktion selbst. Dabei gilt: Wir machen keine Kunst und keinen Journalismus, sondern PR in eigener Sache. Aber wie komme ich zu einem guten Bild? Und was macht es aus? Im politischen Alltag begegnen uns viele Situationen, die es fotografisch zu meistern gilt: Parteitage, Demos, Infostände, Diskussionsrunden. Wir werden genau diese Situationen besprechen. Der Workshop legt den Schwerpunkt dabei weniger auf fotografische Technik als auf Tricks und Kniffe, mit denen wir unsere Parteiarbeit im besten Licht zeigen können.\nReferent: Martin Heinlein (DIE LINKE BGSt)\nweitere Informationen | zur Anmeldung
END:VEVENT
END:VCALENDAR