BEGIN:VCALENDAR
PRODID:-//TYPO3/NONSGML News system (news)//EN
VERSION:2.0
BEGIN:VEVENT
UID:news-81167@www.die-linke.de
TZID:Europe/Berlin
DTSTAMP:20210702T114050Z
DTSTART;VALUE=DATE-TIME;TZID=Europe/Berlin:20210720T180000
SUMMARY:Digitale Strategien gegen Rechts 
DESCRIPTION:Online-Workshop der Reihe "Super Tuesday"\n\nHate Speech, Angriffe von Rechts, Drohungen und Hass im Internet sind keine neuen Phänomene. Personen des öffentlichen Lebens, Menschen, die sich für eine starke, antifaschistische Zivilgesellschaft einsetzen aber immer auch wieder Institutionen oder Organsationen geraten verstärkt in den digitalen Fokus der extremen Rechten. Besonders betroffen sind immer wieder Frauen, Menschen mit Migrationshintergrund oder auch Jüdinnen und Juden. Auf dem Online-Seminar »Digitale Strategien gegen Rechts« wollen wir vorstellen, wie man sich gegen Online-Angriffe von Rechts zur Wehr setzen kann.\nReferent: Torsten Hesse, DIE LINKE Berlin
END:VEVENT
END:VCALENDAR