BEGIN:VCALENDAR
PRODID:-//TYPO3/NONSGML News system (news)//EN
VERSION:2.0
BEGIN:VEVENT
UID:news-81142@www.die-linke.de
TZID:Europe/Berlin
DTSTAMP:20210106T114840Z
DTSTART;VALUE=DATE-TIME;TZID=Europe/Berlin:20210112T180000
SUMMARY:Die richtige Ansprache? Mitglieder für den Wahlkampf begeistern
DESCRIPTION:Online-Workshop der Reihe "Super Tuesday"\n\nAlle vier Jahre aufs Neue stellen sich viele Kreisverbände die Frage: Wie können die Fähigkeiten unserer Mitglieder erkennen und ihr Engagement für einen hitzigen und aufregenden Wahlkampf gewinnen? Oft sind die Aktiventeams klein und die Aufgaben groß. Zusammen wollen wir uns ein paar Kniffe anschauen, wie man die Genoss*innen für den Wahlkampf persönlich anspricht, in die politische Arbeit einbindet und die Parteistrukturen langfristig stärkt. Denn keine Aufgabe ist zu klein, und jede*r kann zum gelungenen Wahlkampf etwas beitragen. Ja, wirklich jede*r!\nReferent*innen: Inva Halili und Martin Neise (DIE LINKE BGSt)\nweitere Informationen | zur Anmeldung
END:VEVENT
END:VCALENDAR