BEGIN:VCALENDAR
PRODID:-//TYPO3/NONSGML News system (news)//EN
VERSION:2.0
BEGIN:VEVENT
UID:news-81140@www.die-linke.de
TZID:Europe/Berlin
DTSTAMP:20210115T112546Z
DTSTART;VALUE=DATE-TIME;TZID=Europe/Berlin:20210126T200000
SUMMARY:Den Wahlkreis gewinnen, aber wie? Mit Katalin Gennburg und Luigi Pantisano
DESCRIPTION:Online-Workshop der Reihe "Super Tuesday"\n\nGute Wahlergebnisse im eigenen Wahlkreis sind eine große Herausforderung. Fragen wir doch mal zwei, die es geschafft haben. Katalin Gennburg hat in Treptow im Ostteil Berlins einen Überraschungserfolg erzielt und ihren Wahlkreis bei der Abgeordnetenhauswahl 2016 gewonnen. Dem Baden-Württemberger Luigi Pantisano ist im Herbst 2020 eine politische Sensation gelungen, indem er im beschaulichen Konstanz im ersten Wahlgang bei der Oberbürgermeisterwahl den ersten Platz belegte. Gemeinsam wollen wir diskutieren, wie sie das gemacht haben und was wir daraus lernen können.\nModeration: Sophie Dieckmann (DIE LINKE BGSt)\nweitere Informationen | zur Anmeldung
END:VEVENT
END:VCALENDAR