BEGIN:VCALENDAR
PRODID:-//TYPO3/NONSGML News system (news)//EN
VERSION:2.0
BEGIN:VEVENT
UID:news-81162@www.die-linke.de
TZID:Europe/Berlin
DTSTAMP:20210115T113711Z
DTSTART;VALUE=DATE-TIME;TZID=Europe/Berlin:20210622T110000
SUMMARY:Den Überblick behalten: Einführung in die Wahlkampf-App
DESCRIPTION:Online-Workshop der Reihe "Super Tuesday"\n\nGanz neu! Die Wahlkampf-App, wir stellen sie euch vor. Damit könnt ihr den Wahlkampf in eurem Wahlkreis einfacher und effizienter koordinieren. Zum Beispiel behaltet ihr gemeinsam den Überblick, wo bereits Haustürgespräche stattgefunden haben, also an welchen Türen ihr schon geklingelt habt und an welchen noch nicht. Ihr seht, wo schon Plakate aufgehängt wurden und wo noch nicht. Auch für Sympathisant*innen bietet die App Unterstützung, um schneller in Kontakt mit der LINKEN vor Ort zu kommen. Check it out!\nReferentin: Susanne Lang (DIE LINKE BGSt)\nweitere Informationen | zur Anmeldung
END:VEVENT
END:VCALENDAR