BEGIN:VCALENDAR
PRODID:-//TYPO3/NONSGML News system (news)//EN
VERSION:2.0
BEGIN:VEVENT
UID:news-81152@www.die-linke.de
TZID:Europe/Berlin
DTSTAMP:20210115T113459Z
DTSTART;VALUE=DATE-TIME;TZID=Europe/Berlin:20210427T180000
SUMMARY:Das Virus geht mit wählen: Wahlkampf in Zeiten von Corona?
DESCRIPTION:Online-Workshop der Reihe "Super Tuesday"\n\nWahlkampf bedeutet viel Kontakt und Kommunikation mit Mitgliedern, Aktiven, Sympathisant*innen und potentiellen Wähler*innen. Aber wie kann das auf Abstand funktionieren? Welche Möglichkeiten gibt es, unter Pandemiebedingungen einen spannenden und verantwortungsvollen Wahlkampf zu führen? Hierzu werden wir Ideen und Erfahrungen austauschen.\nReferent: Torsten Hesse (Landesverband Berlin)\nweitere Informationen | zur Anmeldung
END:VEVENT
END:VCALENDAR